BEGIN:VCALENDAR
VERSION:2.0
PRODID:-//wp-events-plugin.com//7.2.3.1//EN
TZID:Europe/Berlin
X-WR-TIMEZONE:Europe/Berlin
BEGIN:VEVENT
UID:13@seitenblick-leipzig.de
DTSTART;TZID=Europe/Berlin:20240203T160000
DTEND;TZID=Europe/Berlin:20240203T180000
DTSTAMP:20240128T092506Z
URL:https://seitenblick-leipzig.de/veranstaltungen/archiv/jahresempfang/
SUMMARY:Jahresempfang
DESCRIPTION:Wir laden sie herzlich zu unserem Jahresempfang am 3. Februar u
 m 16 Uhr ein.\n\n
CATEGORIES:Jahresempfang
LOCATION:SeitenBlick\, Goetzstraße 2\, Leipzig\, Deutschland
X-APPLE-STRUCTURED-LOCATION;VALUE=URI;X-ADDRESS=Goetzstraße 2\, Leipzig\, 
 Deutschland;X-APPLE-RADIUS=100;X-TITLE=SeitenBlick:geo:0,0
END:VEVENT
BEGIN:VTIMEZONE
TZID:Europe/Berlin
X-LIC-LOCATION:Europe/Berlin
BEGIN:STANDARD
DTSTART:20231029T020000
TZOFFSETFROM:+0200
TZOFFSETTO:+0100
TZNAME:CET
END:STANDARD
END:VTIMEZONE
END:VCALENDAR